BEGIN:VCALENDAR
VERSION:2.0
PRODID:-//ChamberMaster//Event Calendar 2.0//EN
METHOD:PUBLISH
X-PUBLISHED-TTL:P1H
REFRESH-INTERVAL:P1H
CALSCALE:GREGORIAN
BEGIN:VTIMEZONE
TZID:America/New_York
BEGIN:DAYLIGHT
RRULE:FREQ=YEARLY;BYMONTH=3;BYDAY=2SU
DTSTART:20070101T000000
TZOFFSETFROM:-0500
TZOFFSETTO:-0400
TZNAME:Eastern Daylight Time
END:DAYLIGHT
BEGIN:STANDARD
RRULE:FREQ=YEARLY;BYMONTH=11;BYDAY=1SU
DTSTART:20070101T000000
TZOFFSETFROM:-0400
TZOFFSETTO:-0500
TZNAME:Eastern Standard Time
END:STANDARD
END:VTIMEZONE
BEGIN:VEVENT
DTSTART;TZID=America/New_York:20260516T180000
DTEND;TZID=America/New_York:20260516T220000
X-MICROSOFT-CDO-ALLDAYEVENT:FALSE
SUMMARY:Women's Club Gala - Pajama Party!
DESCRIPTION:Pajamas\, dancing\, dinner & silent auction join the Women's Club of Hobe Sound on May 16 for a fun-filled night at Miles Grant Country Club! 🎉Tickets $85 or save on a table of 8 for $595!
X-ALT-DESC;FMTTYPE=text/html:<!DOCTYPE html><html><head><title></title></head><body aria-disabled="false"><p data-end="136" data-start="0">Pajamas\, dancing\, dinner &amp\; silent auction&mdash\;join the Women&rsquo\;s Club of Hobe Sound on May 16 for a fun-filled night at Miles Grant Country Club! 🎉</p><p data-end="136" data-start="0">Tickets $85 or save on a table of 8 for $595!</p><p data-end="173" data-is-last-node="" data-is-only-node="" data-start="138"><br></p></body></html>
LOCATION:5101 SE Miles Grant Road Stuart FL 34997
UID:e.3585.1438446
SEQUENCE:3
DTSTAMP:20260420T165739Z
URL:https://business.hobesound.org/chamber-calendar/Details/women-s-club-gala-pajama-party-1702543?sourceTypeId=Hub
END:VEVENT
END:VCALENDAR
