BEGIN:VCALENDAR
VERSION:2.0
PRODID:-//ChamberMaster//Event Calendar 2.0//EN
METHOD:PUBLISH
X-PUBLISHED-TTL:P1H
REFRESH-INTERVAL:P1H
CALSCALE:GREGORIAN
BEGIN:VTIMEZONE
TZID:America/New_York
BEGIN:DAYLIGHT
RRULE:FREQ=YEARLY;BYMONTH=3;BYDAY=2SU
DTSTART:20070101T000000
TZOFFSETFROM:-0500
TZOFFSETTO:-0400
TZNAME:Eastern Daylight Time
END:DAYLIGHT
BEGIN:STANDARD
RRULE:FREQ=YEARLY;BYMONTH=11;BYDAY=1SU
DTSTART:20070101T000000
TZOFFSETFROM:-0400
TZOFFSETTO:-0500
TZNAME:Eastern Standard Time
END:STANDARD
END:VTIMEZONE
BEGIN:VEVENT
DTSTART;TZID=America/New_York:20260509T081500
DTEND;TZID=America/New_York:20260509T180000
X-MICROSOFT-CDO-ALLDAYEVENT:FALSE
SUMMARY:Pickle for Paws
DESCRIPTION:The Humane Society of the Treasure Coast is hosting its 4th annual Pickleball Charity Event where players will hit the courts in Men's Doubles\, Women's Doubles\, and Mixed Doubles divisions\, enter a raffle\, bid in a silent auction\, and meet some adoptable pups from the shelter.Learn more and register at https://hstc1.org/post/Pickle-for-Paws
X-ALT-DESC;FMTTYPE=text/html:<!DOCTYPE html><html><head><title></title></head><body aria-disabled="false"><p>The Humane Society of the Treasure Coast is hosting its 4th annual Pickleball Charity Event where players will hit the courts in Men&#39\;s Doubles\, Women&#39\;s Doubles\, and Mixed Doubles divisions\, enter a raffle\, bid in a silent auction\, and meet some adoptable pups from the shelter.</p><p>Learn more and register at&nbsp\;<a fr-original-style="" href="https://hstc1.org/post/Pickle-for-Paws" style="user-select: auto\;">https://hstc1.org/post/Pickle-for-Paws</a></p></body></html>
LOCATION:
UID:e.3585.1441005
SEQUENCE:3
DTSTAMP:20260420T165437Z
URL:https://business.hobesound.org/chamber-calendar/Details/pickle-for-paws-1706208?sourceTypeId=Hub
END:VEVENT
END:VCALENDAR
