BEGIN:VCALENDAR
VERSION:2.0
PRODID:-//ChamberMaster//Event Calendar 2.0//EN
METHOD:PUBLISH
X-PUBLISHED-TTL:P1H
REFRESH-INTERVAL:P1H
CALSCALE:GREGORIAN
BEGIN:VTIMEZONE
TZID:America/New_York
BEGIN:DAYLIGHT
RRULE:FREQ=YEARLY;BYMONTH=3;BYDAY=2SU
DTSTART:20070101T000000
TZOFFSETFROM:-0500
TZOFFSETTO:-0400
TZNAME:Eastern Daylight Time
END:DAYLIGHT
BEGIN:STANDARD
RRULE:FREQ=YEARLY;BYMONTH=11;BYDAY=1SU
DTSTART:20070101T000000
TZOFFSETFROM:-0400
TZOFFSETTO:-0500
TZNAME:Eastern Standard Time
END:STANDARD
END:VTIMEZONE
BEGIN:VEVENT
DTSTART;TZID=America/New_York:20260416T190000
DTEND;TZID=America/New_York:20260416T200000
X-MICROSOFT-CDO-ALLDAYEVENT:FALSE
SUMMARY:Apollo School Speaker Series
DESCRIPTION:Catherine Larsen\, keeper of the House of Refuge\, will share stories of Martin County's oldest structure.
X-ALT-DESC;FMTTYPE=text/html:<!DOCTYPE html><html><head><title></title></head><body aria-disabled="false"><p>Catherine Larsen\, keeper of the House of Refuge\, will share stories of Martin County&#39\;s oldest structure.</p></body></html>
LOCATION:
UID:e.3585.1437895
SEQUENCE:3
DTSTAMP:20260420T165636Z
URL:https://business.hobesound.org/chamber-calendar/Details/apollo-school-speaker-series-1701909?sourceTypeId=Hub
END:VEVENT
END:VCALENDAR
